BEGIN:VCALENDAR
VERSION:2.0
PRODID:-//The Ellie Soutter Foundation - ECPv6.15.20//NONSGML v1.0//EN
CALSCALE:GREGORIAN
METHOD:PUBLISH
X-WR-CALNAME:The Ellie Soutter Foundation
X-ORIGINAL-URL:https://theelliesoutter.foundation
X-WR-CALDESC:Events for The Ellie Soutter Foundation
REFRESH-INTERVAL;VALUE=DURATION:PT1H
X-Robots-Tag:noindex
X-PUBLISHED-TTL:PT1H
BEGIN:VTIMEZONE
TZID:UTC
BEGIN:STANDARD
TZOFFSETFROM:+0000
TZOFFSETTO:+0000
TZNAME:UTC
DTSTART:20180101T000000
END:STANDARD
END:VTIMEZONE
BEGIN:VEVENT
DTSTART;TZID=UTC:20250312T110000
DTEND;TZID=UTC:20250312T230000
DTSTAMP:20260422T213622
CREATED:20250210T143632Z
LAST-MODIFIED:20250214T115309Z
UID:2040-1741777200-1741820400@theelliesoutter.foundation
SUMMARY:Foundation Folie Festival
DESCRIPTION:Come and join us on the 12th March for Live Music from Squid Lips\, The Laurettes\, DJ Lady Eliza\, DJ RYAAN and many more. \nFood Trucks\, Tombola and animations
URL:https://theelliesoutter.foundation/events/foundation-folie/
LOCATION:Les Perieres\, Les Gets
CATEGORIES:Fundraising
ATTACH;FMTTYPE=image/png:https://theelliesoutter.foundation/wp-content/uploads/2025/02/Capture-décran-2025-02-07-à-18.09.50.p-ng.png
ORGANIZER;CN="The Ellie Soutter Foundation":MAILTO:hello@theelliesoutterfoundation.com
END:VEVENT
BEGIN:VEVENT
DTSTART;TZID=UTC:20221110T190000
DTEND;TZID=UTC:20221110T233000
DTSTAMP:20260422T213622
CREATED:20220818T123433Z
LAST-MODIFIED:20220818T123434Z
UID:1952-1668106800-1668123000@theelliesoutter.foundation
SUMMARY:MM Search Gala Dinner
DESCRIPTION:Cocktail reception\, three-course dinner and charity auction. \nLive entertainment from “The Laurettes”
URL:https://theelliesoutter.foundation/events/mm-search-gala-dinner/
LOCATION:Malmaison\, 278 W George St\, Glasgow\, G2 4LL
CATEGORIES:Fundraising,Support
ATTACH;FMTTYPE=image/jpeg:https://theelliesoutter.foundation/wp-content/uploads/2022/08/MM-Search-Gala-Dinner-Invitation_web.jpg
END:VEVENT
BEGIN:VEVENT
DTSTART;TZID=UTC:20221028T190000
DTEND;TZID=UTC:20221028T233000
DTSTAMP:20260422T213622
CREATED:20220818T121009Z
LAST-MODIFIED:20221021T081229Z
UID:1950-1666983600-1666999800@theelliesoutter.foundation
SUMMARY:Burlesque au Pays des Merveilles - Friday 28th October
DESCRIPTION:Burlesque in Wonderland \nFriday 28th October 2022 \nSalle de la Colombiere\, Les Gets \n19:00
URL:https://theelliesoutter.foundation/events/burlesque-au-pays-des-merveilles-2/
LOCATION:Salle de la Colombiere\, 2813 Route des Grandes Alpes\, Les Gets\, 74260\, France
CATEGORIES:Fundraising
ATTACH;FMTTYPE=image/jpeg:https://theelliesoutter.foundation/wp-content/uploads/2022/08/Unknown-1.jpeg
END:VEVENT
BEGIN:VEVENT
DTSTART;TZID=UTC:20221027T190000
DTEND;TZID=UTC:20221027T233000
DTSTAMP:20260422T213622
CREATED:20221027T190000Z
LAST-MODIFIED:20221021T130638Z
UID:1947-1666897200-1666913400@theelliesoutter.foundation
SUMMARY:Burlesque au Pays des Merveilles - Thursday 27th October 
DESCRIPTION:Burlesque in Wonderland \nThursday 27th October \nSalle de la Colombiere\, Les Gets \n19:00
URL:https://theelliesoutter.foundation/events/burlesque-au-pays-des-merveilles/
LOCATION:Salle de la Colombiere\, 2813 Route des Grandes Alpes\, Les Gets\, 74260\, France
CATEGORIES:Fundraising
ATTACH;FMTTYPE=image/jpeg:https://theelliesoutter.foundation/wp-content/uploads/2022/08/Unknown-1.jpeg
END:VEVENT
BEGIN:VEVENT
DTSTART;VALUE=DATE:20221027
DTEND;VALUE=DATE:20221028
DTSTAMP:20260422T213622
CREATED:20221021T130543Z
LAST-MODIFIED:20221021T131035Z
UID:1990-1666828800-1666915199@theelliesoutter.foundation
SUMMARY:Burlesque in Wonderland
DESCRIPTION:Burlesque in Wonderland \nThursday 27th October \nSalle de la Colombiere\, Les Gets \n19:00
URL:https://theelliesoutter.foundation/events/test-event-burlesque/
LOCATION:Salle la Colombiere\, 2813 Route des Grandes Alpes\, Les Gets\, 74260\, France
CATEGORIES:Fundraising
ATTACH;FMTTYPE=image/png:https://theelliesoutter.foundation/wp-content/uploads/2022/04/Insta-street-party-riding2win.png
END:VEVENT
BEGIN:VEVENT
DTSTART;TZID=UTC:20221015T193000
DTEND;TZID=UTC:20221015T233000
DTSTAMP:20260422T213622
CREATED:20221015T193000Z
LAST-MODIFIED:20221006T110820Z
UID:1956-1665862200-1665876600@theelliesoutter.foundation
SUMMARY:TESF National Snow Show Charity Gala Evening
DESCRIPTION:7.30pm to Midnight\n\n\nLive Band Squid Lips\nBuffet Dinner\nGuest Speakers\nLive Auction\nLive DJ Lady Eliza\nIn Association with The National Snow Show\n\nCLICK HERE TO BUY TICKETS ONLINE NOW
URL:https://theelliesoutter.foundation/events/tesf-charity-gala-evening/
LOCATION:Lake Lounge\, Resorts World\, Pendigo Way\, Marston Green\, Birmingham\, B40 1PU\, United Kingdom
CATEGORIES:Fundraising
ATTACH;FMTTYPE=image/jpeg:https://theelliesoutter.foundation/wp-content/uploads/2022/10/TESF-Charity-Gala-Evening-small-web.jpg
END:VEVENT
BEGIN:VEVENT
DTSTART;TZID=UTC:20211117T183000
DTEND;TZID=UTC:20211117T230000
DTSTAMP:20260422T213622
CREATED:20211117T183000Z
LAST-MODIFIED:20211103T154601Z
UID:1775-1637173800-1637190000@theelliesoutter.foundation
SUMMARY:La Beauté de la nuit. A spectacle of dance depicting the history of Burlesque - 17th November 2021
DESCRIPTION:BACK BY POPULAR DEMAND\nONE NIGHT ONLY\n17th NOVEMBER 2021 \n\nDue to new restrictions\nAll attendees must be able to produce a double vaccination certificate or a valid covid test prior to entry.\nTous les participants doivent être en mesure de produire un double certificat de vaccination ou un test covid valide.\nLa Beauté de la nuit. A spectacle of dance depicting the history of Burlesque\nUne soirée unique de danse et de musique illustrant l’histoire du Burlesque. A night of dance and music depicting the history of Burlesque.\nEnglish show with a French translator\nSpectacle en anglais avec un traducteur français \nAbout this event\nTenue de Cocktail / Dress Code Black Tie\nOuverture des portes à 18h30 / Doors open 18.30\ncanapés et apero inclus / Complimentary Canapes x fizz\nBar payant / Cash bar\nDébut du show à 19h15 / Curtain 19.15\nbuffet de curry (viande ou légumes) servi pendant l’intervalle – inclus / Complimentary Buffet Curry (meat or Veg) served during interval\nFin de soirée 23.00 / Carriages 23.00
URL:https://theelliesoutter.foundation/events/la-beaute-de-la-nuit-a-spectacle-of-dance-depicting-the-history-of-burlesque/
LOCATION:Salle de la Colombiere\, 2813 Route des Grandes Alpes\, Les Gets\, 74260\, France
CATEGORIES:Fundraising
ATTACH;FMTTYPE=image/png:https://theelliesoutter.foundation/wp-content/uploads/2021/11/x.1.Instagram_Labeautedelanuit.png
ORGANIZER;CN="The Ellie Soutter Foundation":MAILTO:hello@theelliesoutterfoundation.com
END:VEVENT
BEGIN:VEVENT
DTSTART;VALUE=DATE:20210904
DTEND;VALUE=DATE:20210906
DTSTAMP:20260422T213622
CREATED:20200728T141743Z
LAST-MODIFIED:20200828T131240Z
UID:1488-1630713600-1630886399@theelliesoutter.foundation
SUMMARY:Alambike 4th & 5th September 2021
DESCRIPTION:24-HOUR MOUNTAIN BIKE RELAY!\nA fun team event! For the first edition of Alambike\, the 24-hour mountain bike event is when teams of 4 to 8 participants will need to clock up as many kilometres as possible in a relay around the iconic cross-country course from the MTB World Championships! What for? To raise record donations for two charities in Les Gets! \nAN EVENT FOR EVERYONE!\nAn event like no other in Les Gets\, aimed at visitors of all ages. The 24-hour relay as well as a balance bike race for kids\, fun activities in the village centre\, events for all\, concerts and more. And during the two days of festivities\, EVERY KILOMETRE COUNTS! Amis biKOEURS\, join us in Les Gets for a fun\, friendly event where surpassing yourself and solidarity are the name of the game… \nClick here to register your team for this event  \n 
URL:https://theelliesoutter.foundation/events/alambike-5th-6th-september-2020/
LOCATION:L’Apreski Bar Les Gets\, 125 Route du Front de Neige\, Les Gets\, 74260\, France
CATEGORIES:Fundraising
ATTACH;FMTTYPE=image/png:https://theelliesoutter.foundation/wp-content/uploads/2020/07/Alambike-banner-logo.png
END:VEVENT
BEGIN:VEVENT
DTSTART;TZID=UTC:20210803T183000
DTEND;TZID=UTC:20210804T230000
DTSTAMP:20260422T213622
CREATED:20210707T140823Z
LAST-MODIFIED:20210709T134819Z
UID:1642-1628015400-1628118000@theelliesoutter.foundation
SUMMARY:La Beauté de la nuit - 3 et 4 Aout 2021 (18:30 - 23:00)
DESCRIPTION:Une soirée unique de danse et de musique illustrant l’histoire du Burlesque. A night of dance and music depicting the history of Burlesque \nTwo nights/ Deux Soirées\nMardi 3 Aout / Tuesday 3rd August\nMercredi 4 Aout / Wednesday 4th August \nAbout this event\n\n\n\nTenue de Cocktail / Dress Code Black Tie\nOuverture des portes à 18h30 / Doors open 18.30\ncanapés et apero inclus / Complimentary Canapes x fizz\nBar payant / Cash bar\nDébut du show à 19h15 / Curtain 19.15\nbuffet de curry (viande ou légumes) servi pendant l’intervalle – inclus / Complimentary Buffet Curry (meat or Veg) served during interval\nGrande tombola / Grand Raffle\nFin de soirée 23.00 / Carriages 23.00
URL:https://theelliesoutter.foundation/events/la-beaute-de-la-nuit/
LOCATION:Salle de la Colombiere\, 2813 Route des Grandes Alpes\, Les Gets\, 74260\, France
CATEGORIES:Fundraising
ATTACH;FMTTYPE=image/png:https://theelliesoutter.foundation/wp-content/uploads/2021/07/burlesque.png
END:VEVENT
BEGIN:VEVENT
DTSTART;TZID=UTC:20201203T193000
DTEND;TZID=UTC:20201203T203000
DTSTAMP:20260422T213622
CREATED:20201021T093546Z
LAST-MODIFIED:20201113T121813Z
UID:1523-1607023800-1607027400@theelliesoutter.foundation
SUMMARY:MM Search Virtual Quiz Night
DESCRIPTION:This is going to be a great virtual quiz night! Be quick to sign up for your team!\nThursday 3rd December 2020 7.00pm- 8.30pm\nIn the quest for company and social interaction\, Zoom quizzes have become a staple in many of our weekend plans in 2020. It will therefore come as no surprise that this year we will be hosting our very own Virtual Quiz Night to benefit our chosen charity – The Ellie Soutter Foundation @esfoundation \nTHE AUCTION WEBSITE IS LIVE – Place your bids now to secure some amazing prizes! \n \nContact us on info@mmsearch.co.uk to register for a link to join\, spaces are limited so make sure to secure your place quickly! \nYou can join as an individual or as a team – even if you are in separate households.\n.\n.\n#theelliesoutterfoundation #raisingfundsfortheelliesoutterfoundation #mentalhealthinsport
URL:https://theelliesoutter.foundation/events/mm-search-virtual-quiz-night/
CATEGORIES:Fundraising
ATTACH;FMTTYPE=image/jpeg:https://theelliesoutter.foundation/wp-content/uploads/2020/10/BBFC454F-3DF8-4E0E-B742-4BE135742475_1_201_a.jpeg
ORGANIZER;CN="MM Search":MAILTO:info@mmsearch.co.uk
END:VEVENT
BEGIN:VEVENT
DTSTART;TZID=UTC:20200704T170000
DTEND;TZID=UTC:20200704T190000
DTSTAMP:20260422T213622
CREATED:20200604T090919Z
LAST-MODIFIED:20200625T070551Z
UID:1056-1593882000-1593889200@theelliesoutter.foundation
SUMMARY:Grand Auction & Raffle Fundraiser Finale - Saturday 4th July 5 - 7pm
DESCRIPTION:Grand Auction & Raffle Fundraiser Finale \nPlease Bid now on any auction lot until 4th July \nBuy raffle tickets online for only €5 \n3 venues 3 live events  SATURDAY 4th July  from 5 – 7 pm\nGrande Ambiance – Live Music – DJ \nL’Apreski Bar Les Gets – Tania & Danny from Jazz Hedonista \nLe Tremplin Morzine – DJ Lady Eliza \nLe Bar National St. Jean d’Aulps \nWe will be live streaming from these events too!
URL:https://theelliesoutter.foundation/events/grand-online-fundraiser/
LOCATION:L’Apreski Bar Les Gets\, 125 Route du Front de Neige\, Les Gets\, 74260\, France
CATEGORIES:Fundraising
ATTACH;FMTTYPE=image/jpeg:https://theelliesoutter.foundation/wp-content/uploads/2020/06/auction.jpg
END:VEVENT
BEGIN:VEVENT
DTSTART;TZID=UTC:20200401T180000
DTEND;TZID=UTC:20200402T030000
DTSTAMP:20260422T213622
CREATED:20190913T130720Z
LAST-MODIFIED:20191113T123553Z
UID:535-1585764000-1585796400@theelliesoutter.foundation
SUMMARY:Our Annual Fundraiser
DESCRIPTION:Each year\, throughout Ellie’s career\, Tony arranged an end-of-season fundraising event to boost the coffers and support Ellie’s summer training budget. \nBusinesses throughout Les Gets and the rest of the valley were always so supportive and Ellie was always so grateful! \nThis event is our official annual celebration of all the amazing local businesses who’ve supported us and we hope to top up our fundraising pot on the night! \nStay tuned for more updates.
URL:https://theelliesoutter.foundation/events/our-annual-fundraiser/
LOCATION:Salle la Colombiere\, 2813 Route des Grandes Alpes\, Les Gets\, 74260\, France
CATEGORIES:Fundraising
ATTACH;FMTTYPE=image/jpeg:https://theelliesoutter.foundation/wp-content/uploads/2019/09/Ellie-Soutter-Annual-fundraiser.jpg
ORGANIZER;CN="The Ellie Soutter Foundation":MAILTO:hello@theelliesoutterfoundation.com
END:VEVENT
BEGIN:VEVENT
DTSTART;TZID=UTC:20200117T160000
DTEND;TZID=UTC:20200117T200000
DTSTAMP:20260422T213622
CREATED:20191125T134444Z
LAST-MODIFIED:20200118T120138Z
UID:749-1579276800-1579291200@theelliesoutter.foundation
SUMMARY:#Riding2Win - Official Shop Opening
DESCRIPTION:Tony and the team would love you to join them at the official opening of the #Riding2Win shop in Les Gets. \n#Riding2Win is the clothing brand associated with The Ellie Soutter Foundation\, with all profits from the range going into the foundation’s fundraising pot. \nOur opening evening will feature live music\, drinks and nibbles plus the opportunity to meet Tony and the team. The shop will also be used as the Foundation’s head quarters and we’d love to show you around.
URL:https://theelliesoutter.foundation/events/riding2win-official-shop-opening/
LOCATION:#Riding2Win Shop for The Ellie Soutter Foundation\, 84 Rue du Vieux Village\, Les Gets\, 74260
CATEGORIES:Fundraising,Shop
ATTACH;FMTTYPE=image/png:https://theelliesoutter.foundation/wp-content/uploads/2019/11/the-ellie-soutter-foundation-shop-les-gets.png
ORGANIZER;CN="The Ellie Soutter Foundation":MAILTO:hello@theelliesoutterfoundation.com
END:VEVENT
BEGIN:VEVENT
DTSTART;TZID=UTC:20191107T190000
DTEND;TZID=UTC:20191107T233000
DTSTAMP:20260422T213622
CREATED:20190913T115427Z
LAST-MODIFIED:20191105T174659Z
UID:502-1573153200-1573169400@theelliesoutter.foundation
SUMMARY:Inaugural GALA Dinner\, Glasgow\, Scotland
DESCRIPTION:A gala dinner to help benefit The Ellie Soutter Foundation has been announced for November 7\, 2019 at Hutcheson’s City Grill\, Glasgow from 7pm. \nOrganised by MM Search\, an independent executive search firm recruiting senior talent for the UK’s top businesses\, the inaugural gala dinner will be in the company of some of Scotland’s most iconic sporting legends. \nThere will be a number of items up for auction during the evening\, including ski holidays\, art work\, spa days\, golf days and winter sports equipment – with all monies going to The Ellie Soutter Foundation\, a charity set up following the death of Ellie Soutter in 2018 that supports young skiers and snowboarders to realise their potential and dreams. Offering grants and a complete mind and body wellness package. \nIf you can’t make it to the dinner you still have the chance to bid on a wide range of fantastic items in the auctions – click here to visit the auction page. \nFounder of The Ellie Soutter Foundation\, Tony Soutter\, said: “This is a great opportunity for people in Scotland to help the foundation and have a fantastic evening\, just before the start of winter. We will have an amazing line up of sporting celebrities and auction prizes. This is going to be an evening to remember and a great way to remember Ellie and also help other young winter sports athletes fund their training programs for this winter and beyond.” \nKen Morrice\, founding partner\, MG Search\, said: “We selected the Ellie Soutter Foundation as our charity partner because of our shared love of winter sports and our passion to support young athletes. There are many interwoven character traits that drive elite professionals in sports and business alike\, attitude\, confidence\, commitment and taking a long term view. \n“I heard first hand from Tony about Ellie’s story and was moved when he described The Ellie Soutter Foundation and its mission to support young athletes both on and off the piste. We hope that this event will raise both awareness of the foundation but also bring some much-needed spotlight to the pressures surrounding young athletes today.” \nTickets cost £100 per person + VAT. \nThe event will be hosted by sports presenter Connie McLaughlin. \nTo book\, contact Jen Gillian jen@mgsearch.co.uk
URL:https://theelliesoutter.foundation/events/inaugural-gala-dinner-glasgow-scotland/
LOCATION:Hutchesons Bar & Grill\, 158 Ingram Street\, Glasgow\, G1 1EG\, United Kingdom
CATEGORIES:Fundraising
ATTACH;FMTTYPE=image/jpeg:https://theelliesoutter.foundation/wp-content/uploads/2019/09/293A4279-e1568899977358.jpeg
END:VEVENT
BEGIN:VEVENT
DTSTART;TZID=UTC:20190327T190000
DTEND;TZID=UTC:20190327T233000
DTSTAMP:20260422T213622
CREATED:20190305T132011Z
LAST-MODIFIED:20190305T132011Z
UID:431-1553713200-1553729400@theelliesoutter.foundation
SUMMARY:The Ellie Soutter Foundation Charity Evening
DESCRIPTION:Each year\, throughout Ellie’s career\, Tony arranged an end-of-season fundraising event to boost the coffers and support Ellie’s summer training budget.\n\n\n\nBusinesses throughout Les Gets and the rest of the valley were always so supportive and Ellie was always so grateful!\n\n\n \n\n\nWe see absolutely no reason not to hold the event again this year. In fact\, we think it’s more important than ever. The Ellie Soutter Foundation is establishing itself as a charity to fund the aspiring and talented ski and snowboard athletes of the future\, and encourage open discussions on mental health in winter sports. We need to fundraise to make this happen and we’re counting on your support now!
URL:https://theelliesoutter.foundation/events/the-ellie-soutter-foundation-charity-evening/
LOCATION:Salle la Colombiere\, 2813 Route des Grandes Alpes\, Les Gets\, 74260\, France
CATEGORIES:Fundraising
ATTACH;FMTTYPE=image/jpeg:https://theelliesoutter.foundation/wp-content/uploads/2019/03/52072555_2219435578106949_6143210698357866496_o.jpg
ORGANIZER;CN="The Ellie Soutter Foundation":MAILTO:hello@theelliesoutterfoundation.com
END:VEVENT
END:VCALENDAR